BEGIN:VCALENDAR
VERSION:2.0
PRODID:-//Aipd Frosinone - ECPv6.15.12.2//NONSGML v1.0//EN
CALSCALE:GREGORIAN
METHOD:PUBLISH
X-ORIGINAL-URL:https://aipdfrosinone.it
X-WR-CALDESC:Eventi per Aipd Frosinone
REFRESH-INTERVAL;VALUE=DURATION:PT1H
X-Robots-Tag:noindex
X-PUBLISHED-TTL:PT1H
BEGIN:VTIMEZONE
TZID:Europe/Paris
BEGIN:DAYLIGHT
TZOFFSETFROM:+0100
TZOFFSETTO:+0200
TZNAME:CEST
DTSTART:20240331T010000
END:DAYLIGHT
BEGIN:STANDARD
TZOFFSETFROM:+0200
TZOFFSETTO:+0100
TZNAME:CET
DTSTART:20241027T010000
END:STANDARD
BEGIN:DAYLIGHT
TZOFFSETFROM:+0100
TZOFFSETTO:+0200
TZNAME:CEST
DTSTART:20250330T010000
END:DAYLIGHT
BEGIN:STANDARD
TZOFFSETFROM:+0200
TZOFFSETTO:+0100
TZNAME:CET
DTSTART:20251026T010000
END:STANDARD
BEGIN:DAYLIGHT
TZOFFSETFROM:+0100
TZOFFSETTO:+0200
TZNAME:CEST
DTSTART:20260329T010000
END:DAYLIGHT
BEGIN:STANDARD
TZOFFSETFROM:+0200
TZOFFSETTO:+0100
TZNAME:CET
DTSTART:20261025T010000
END:STANDARD
END:VTIMEZONE
BEGIN:VEVENT
DTSTART;VALUE=DATE:20251211
DTEND;VALUE=DATE:20251212
DTSTAMP:20260421T162809
CREATED:20251204T090000Z
LAST-MODIFIED:20251210T003023Z
UID:13766-1765411200-1765497599@aipdfrosinone.it
SUMMARY:Concorso letterario AIPD Frosinone
DESCRIPTION:In occasione del decimo anniversario di attività\, AIPD Frosinone promuove il concorso letterario “Premio AIPD Frosinone”.\nRivolto agli studenti delle scuole superiori\, premia  – con un incentivo economico – il miglior elaborato dedicato a temi di rilevanza sociale\, come la unicità e la diversità. \nGiovedì 11 dicembre è in programma l’evento di presentazione\, alle ore 11 all’Aula Magna del polo universitario di Frosinone\, in piazza Marzi n. 1. \nPer informazioni e comunicare la partecipazione: aipd.frosinone@gmail.com – 339 2758012 – 0776 760192
URL:https://aipdfrosinone.it/evento/concorso-letterario-aipd-frosinone/
LOCATION:Aula Magna del Polo Universitario di Frosinone\, Piazza Marzi\, 1\, Frosinone\, FR\, 03100\, Italy
CATEGORIES:Manifestazione
ATTACH;FMTTYPE=image/jpeg:https://aipdfrosinone.it/wp-content/uploads/2021/05/concorso-letterario-0100-min.jpg
ORGANIZER;CN="Cosmo Brunesi":MAILTO:c.brunesi@aipdfrosinone.it
END:VEVENT
END:VCALENDAR